BEGIN:VCALENDAR
VERSION:2.0
PRODID:-//Kingdom Of Fife Group of Advanced Motorists - ECPv6.15.20//NONSGML v1.0//EN
CALSCALE:GREGORIAN
METHOD:PUBLISH
X-WR-CALNAME:Kingdom Of Fife Group of Advanced Motorists
X-ORIGINAL-URL:https://kofgiam.org.uk
X-WR-CALDESC:Events for Kingdom Of Fife Group of Advanced Motorists
REFRESH-INTERVAL;VALUE=DURATION:PT1H
X-Robots-Tag:noindex
X-PUBLISHED-TTL:PT1H
BEGIN:VTIMEZONE
TZID:Europe/London
BEGIN:DAYLIGHT
TZOFFSETFROM:+0000
TZOFFSETTO:+0100
TZNAME:BST
DTSTART:20210328T010000
END:DAYLIGHT
BEGIN:STANDARD
TZOFFSETFROM:+0100
TZOFFSETTO:+0000
TZNAME:GMT
DTSTART:20211031T010000
END:STANDARD
BEGIN:DAYLIGHT
TZOFFSETFROM:+0000
TZOFFSETTO:+0100
TZNAME:BST
DTSTART:20220327T010000
END:DAYLIGHT
BEGIN:STANDARD
TZOFFSETFROM:+0100
TZOFFSETTO:+0000
TZNAME:GMT
DTSTART:20221030T010000
END:STANDARD
BEGIN:DAYLIGHT
TZOFFSETFROM:+0000
TZOFFSETTO:+0100
TZNAME:BST
DTSTART:20230326T010000
END:DAYLIGHT
BEGIN:STANDARD
TZOFFSETFROM:+0100
TZOFFSETTO:+0000
TZNAME:GMT
DTSTART:20231029T010000
END:STANDARD
BEGIN:DAYLIGHT
TZOFFSETFROM:+0000
TZOFFSETTO:+0100
TZNAME:BST
DTSTART:20240331T010000
END:DAYLIGHT
BEGIN:STANDARD
TZOFFSETFROM:+0100
TZOFFSETTO:+0000
TZNAME:GMT
DTSTART:20241027T010000
END:STANDARD
BEGIN:DAYLIGHT
TZOFFSETFROM:+0000
TZOFFSETTO:+0100
TZNAME:BST
DTSTART:20250330T010000
END:DAYLIGHT
BEGIN:STANDARD
TZOFFSETFROM:+0100
TZOFFSETTO:+0000
TZNAME:GMT
DTSTART:20251026T010000
END:STANDARD
BEGIN:DAYLIGHT
TZOFFSETFROM:+0000
TZOFFSETTO:+0100
TZNAME:BST
DTSTART:20260329T010000
END:DAYLIGHT
BEGIN:STANDARD
TZOFFSETFROM:+0100
TZOFFSETTO:+0000
TZNAME:GMT
DTSTART:20261025T010000
END:STANDARD
BEGIN:DAYLIGHT
TZOFFSETFROM:+0000
TZOFFSETTO:+0100
TZNAME:BST
DTSTART:20270328T010000
END:DAYLIGHT
BEGIN:STANDARD
TZOFFSETFROM:+0100
TZOFFSETTO:+0000
TZNAME:GMT
DTSTART:20271031T010000
END:STANDARD
END:VTIMEZONE
BEGIN:VEVENT
DTSTART;VALUE=DATE:20260419
DTEND;VALUE=DATE:20260420
DTSTAMP:20260423T212000
CREATED:20260321T110541Z
LAST-MODIFIED:20260321T111109Z
UID:1487-1776556800-1776643199@kofgiam.org.uk
SUMMARY:Borders Bimble
DESCRIPTION:Motorcycle Section \nA grand day out in the Border country. 09.30 at Inverkeithing Park and Ride.
URL:https://kofgiam.org.uk/event/borders-bimble/
LOCATION:Scottish Borders
CATEGORIES:Motorcycle Ride-Out
END:VEVENT
BEGIN:VEVENT
DTSTART;TZID=Europe/London:20260412T090000
DTEND;TZID=Europe/London:20260412T130000
DTSTAMP:20260423T212000
CREATED:20260321T110325Z
LAST-MODIFIED:20260321T111141Z
UID:1484-1775984400-1775998800@kofgiam.org.uk
SUMMARY:SCAA Ride up
DESCRIPTION:Motorcycle Section\n\nMotorcycle Law Scotland are arranging a run up to the Scottish Charity Air Ambulance (SCAA) HQ based at Scone.\nRegister your interest here https://forms.office.com/Pages/ResponsePage.aspx…\nDate is 12th AprilMeeting place\, time\, and route are still to be confirmed – watch this space!
URL:https://kofgiam.org.uk/event/scaa-ride-up/
LOCATION:Perth Airport
CATEGORIES:Charity Event
END:VEVENT
BEGIN:VEVENT
DTSTART;TZID=Europe/London:20260329T110000
DTEND;TZID=Europe/London:20260329T130000
DTSTAMP:20260423T212000
CREATED:20260321T104326Z
LAST-MODIFIED:20260321T111231Z
UID:1475-1774782000-1774789200@kofgiam.org.uk
SUMMARY:Easter Toy Run
DESCRIPTION:Motorcycle Section & Car section \nOur Annual toy run to the Children’s Ward at Victoria Hospital Kirkcaldy. We will meet at 11:00 hours at the Battery Road car park North Queensferry. Then ride up to the Hospital to present the presents.
URL:https://kofgiam.org.uk/event/loch-tay-tootle/
LOCATION:Victoria Hospital Kirkcaldy
CATEGORIES:Charity Event
ORGANIZER;CN="Mark Ellis":MAILTO:motorcycle@kofgiam.org.uk
END:VEVENT
BEGIN:VEVENT
DTSTART;VALUE=DATE:20260322
DTEND;VALUE=DATE:20260323
DTSTAMP:20260423T212000
CREATED:20260321T105845Z
LAST-MODIFIED:20260321T124905Z
UID:1482-1774137600-1774223999@kofgiam.org.uk
SUMMARY:Loch Tay Tootle
DESCRIPTION:Motorcycle Section \nThis is a shorter version from my regular Loch Tay route – ideal for those that have been off the bike over winter\, and want to ease themselves back into the saddle.Final route TBC. Expect about 150miles for the day.Stops will be for morning coffee\, lunch\, and for those with a peanut-sized tank\, a fuel stop/leg stretch (c. 100miles) \nMeet at Ferrytoll car park Inverkeithing 09:15
URL:https://kofgiam.org.uk/event/loch-tay-tootle-2/
LOCATION:Loch Tay
CATEGORIES:Motorcycle Ride-Out
END:VEVENT
BEGIN:VEVENT
DTSTART;TZID=Europe/London:20241208T123000
DTEND;TZID=Europe/London:20241208T143000
DTSTAMP:20260423T212000
CREATED:20240922T152253Z
LAST-MODIFIED:20240923T071854Z
UID:1251-1733661000-1733668200@kofgiam.org.uk
SUMMARY:Christmas Lunch
DESCRIPTION:Christmas Lunch
URL:https://kofgiam.org.uk/event/1251/
LOCATION:Dunnikier Golf Club\, Dunnikier Way\, Kirkcaldy\, Fife\, KY1 3LP\, United Kingdom
CATEGORIES:Social Event
ORGANIZER;CN="Mark Ellis":MAILTO:motorcycle@kofgiam.org.uk
END:VEVENT
BEGIN:VEVENT
DTSTART;TZID=Europe/London:20241114T080000
DTEND;TZID=Europe/London:20241114T190000
DTSTAMP:20260423T212000
CREATED:20240922T165009Z
LAST-MODIFIED:20240923T192825Z
UID:1276-1731571200-1731610800@kofgiam.org.uk
SUMMARY:Smart Motorways
DESCRIPTION:Everything you wanted to know about smart motorways but were afraid to ask
URL:https://kofgiam.org.uk/event/1276/
LOCATION:Vine Conference Centre\, 131 Garvock Hill\, Dunfermline\, Fife\, KY11 4JU\, United Kingdom
CATEGORIES:Training Event
END:VEVENT
BEGIN:VEVENT
DTSTART;TZID=Europe/London:20241019T130000
DTEND;TZID=Europe/London:20241019T170000
DTSTAMP:20260423T212000
CREATED:20240922T163958Z
LAST-MODIFIED:20240922T205159Z
UID:1271-1729342800-1729357200@kofgiam.org.uk
SUMMARY:AGM
DESCRIPTION:
URL:https://kofgiam.org.uk/event/agm/
CATEGORIES:Meeting
END:VEVENT
BEGIN:VEVENT
DTSTART;TZID=Europe/London:20241004T080000
DTEND;TZID=Europe/London:20241005T110000
DTSTAMP:20260423T212000
CREATED:20240922T164717Z
LAST-MODIFIED:20240923T193224Z
UID:1273-1728028800-1728126000@kofgiam.org.uk
SUMMARY:Ride To The Wall
DESCRIPTION:Ride To The Wall \n  \nA ride of remembrance to the National Memorial Arboretum
URL:https://kofgiam.org.uk/event/1273/
LOCATION:National Memorial Arboretum\, Croxall Road\, Alrewas\, Burton-on-Trent\, Staffordshire\, DE13 7AR
ORGANIZER;CN="Mark Ellis":MAILTO:motorcycle@kofgiam.org.uk
END:VEVENT
BEGIN:VEVENT
DTSTART;TZID=Europe/London:20240929T090000
DTEND;TZID=Europe/London:20240929T170000
DTSTAMP:20260423T212000
CREATED:20240922T163527Z
LAST-MODIFIED:20240924T072809Z
UID:1268-1727600400-1727629200@kofgiam.org.uk
SUMMARY:Dambusters 3
DESCRIPTION:Motorcycle ride-out\, ticking off as many Scottish hydro installations as we can. Promises to be a great day out if the first two were anything to go by!
URL:https://kofgiam.org.uk/event/dambusters-3/
LOCATION:Kinross Services\, Junction 6\, M90\, Kinross\, KY13 0NQ\, United Kingdom
CATEGORIES:Motorcycle Ride-Out
END:VEVENT
BEGIN:VEVENT
DTSTART;TZID=Europe/London:20221023T120000
DTEND;TZID=Europe/London:20221023T153000
DTSTAMP:20260423T212000
CREATED:20221003T191321Z
LAST-MODIFIED:20221003T192054Z
UID:1130-1666526400-1666539000@kofgiam.org.uk
SUMMARY:AGM & Bus Museum
DESCRIPTION:Bus museum & AGM\n\nThis year\, we are doing something slightly different for our AGM.  On 23 October we will tie our Annual General Meeting into a free event at the Scottish Vintage Bus Museum.\nThe AGM will start at 11am followed by lunch from 11.45. The museum visit will start from 12.15 until 14:30. Feel free to join at any point although you are welcome to come for the whole thing.\nIn order to help the bus museum with numbers for the day\, please register for free online at:\nhttps://www.eventbrite.co.uk/e/kingdom-of-fife-group-agm-tickets-403536517587\n\n 
URL:https://kofgiam.org.uk/event/agm-bus-museum/
LOCATION:Scottish Vintage Bus Museum\, M90 Commerce Park\, Dunfermline\, KY12 0SJ\, United Kingdom
CATEGORIES:Meeting
END:VEVENT
BEGIN:VEVENT
DTSTART;VALUE=DATE:20220925
DTEND;VALUE=DATE:20220927
DTSTAMP:20260423T212000
CREATED:20220317T220819Z
LAST-MODIFIED:20220317T220819Z
UID:1061-1664067600-1664153999@kofgiam.org.uk
SUMMARY:The Dambusters Run
DESCRIPTION:Further details to follow nearer the time.
URL:https://kofgiam.org.uk/event/the-dambusters-run/
CATEGORIES:Motorcycle Ride-Out
ATTACH;FMTTYPE=image/jpeg:https://kofgiam.org.uk/wp-content/uploads/2022/03/dambusters.jpg
END:VEVENT
BEGIN:VEVENT
DTSTART;VALUE=DATE:20220702
DTEND;VALUE=DATE:20220704
DTSTAMP:20260423T212000
CREATED:20220315T212621Z
LAST-MODIFIED:20220315T212621Z
UID:1057-1656723600-1656809999@kofgiam.org.uk
SUMMARY:007 Skyfall Run
DESCRIPTION:An email will be sent out nearer the time with full details
URL:https://kofgiam.org.uk/event/007-skyfall-run/
LOCATION:Glencoe Scottish Highlands
CATEGORIES:Motorcycle Ride-Out
ATTACH;FMTTYPE=image/jpeg:https://kofgiam.org.uk/wp-content/uploads/2022/03/007.jpg
ORGANIZER;CN="Mark Ellis":MAILTO:motorcycle@kofgiam.org.uk
END:VEVENT
BEGIN:VEVENT
DTSTART;VALUE=DATE:20220618
DTEND;VALUE=DATE:20220620
DTSTAMP:20260423T212000
CREATED:20220313T220022Z
LAST-MODIFIED:20220315T080610Z
UID:1041-1655514000-1655600399@kofgiam.org.uk
SUMMARY:Kinlochleven Ride Out
DESCRIPTION:Further details to follow
URL:https://kofgiam.org.uk/event/kinlochleven-ride-out/
CATEGORIES:Motorcycle Ride-Out
ORGANIZER;CN="Mark Ellis":MAILTO:motorcycle@kofgiam.org.uk
END:VEVENT
BEGIN:VEVENT
DTSTART;VALUE=DATE:20220423
DTEND;VALUE=DATE:20220425
DTSTAMP:20260423T212000
CREATED:20220321T214416Z
LAST-MODIFIED:20220321T214416Z
UID:1065-1650675600-1650761999@kofgiam.org.uk
SUMMARY:Loch Tay Run
DESCRIPTION:Check out the Facebook page for further details
URL:https://kofgiam.org.uk/event/loch-tay-run/
CATEGORIES:Motorcycle Ride-Out
ATTACH;FMTTYPE=image/jpeg:https://kofgiam.org.uk/wp-content/uploads/2022/03/loch-tay.jpg
END:VEVENT
BEGIN:VEVENT
DTSTART;TZID=Europe/London:20220410T120000
DTEND;TZID=Europe/London:20220410T180000
DTSTAMP:20260423T212000
CREATED:20220313T215243Z
LAST-MODIFIED:20220313T215243Z
UID:1037-1649592000-1649613600@kofgiam.org.uk
SUMMARY:Easter Egg Run
DESCRIPTION:Our annual trip to the Victoria Hospital Kirkcaldy Children’s ward. an email has already been sent out for donations. We will meet up at the Forth bridge car park\, North Queensferry (near to deep sea world)
URL:https://kofgiam.org.uk/event/easter-egg-run/
CATEGORIES:Charity Event
ATTACH;FMTTYPE=image/jpeg:https://kofgiam.org.uk/wp-content/uploads/2022/03/easter-egg-run.jpg
ORGANIZER;CN="Mark Ellis":MAILTO:motorcycle@kofgiam.org.uk
END:VEVENT
BEGIN:VEVENT
DTSTART;VALUE=DATE:20220319
DTEND;VALUE=DATE:20220320
DTSTAMP:20260423T212000
CREATED:20220313T214541Z
LAST-MODIFIED:20220314T161102Z
UID:1034-1647648000-1647734399@kofgiam.org.uk
SUMMARY:March Ride Out
DESCRIPTION:Meet Kirkcaldy 10.00\, stands up 10.30 \nRide-out round the East Neuk of Fife\, then Blairgowrie\, Dunkeld\, Comrie\, Dunning\, Powmill\, Kelty & back to Kirkcaldy. The map above is indicative rather than definitive. Coffee / leg stretch stops could include the Rhynd Cafe at Kinshaldy\, Tay Bridge South Cafe\, Bridgend Cafe Dundee\, Cateran Cafe Blairgowrie and Powmill Milk Bar\, or anywhere anyone fancies. Plan for food stop would be Tullybannocher Tea Room at Comrie.
URL:https://kofgiam.org.uk/event/march-ride-out-2/
LOCATION:Morrisons carpark\, Kirkcaldy\, Morrisons\, The Esplanade\, Kirkcaldy\, KY1 1SL\, United Kingdom
CATEGORIES:Motorcycle Ride-Out
END:VEVENT
BEGIN:VEVENT
DTSTART;TZID=Europe/London:20220313T080000
DTEND;TZID=Europe/London:20220313T170000
DTSTAMP:20260423T212000
CREATED:20220313T212754Z
LAST-MODIFIED:20220313T212754Z
UID:1031-1647158400-1647190800@kofgiam.org.uk
SUMMARY:March Ride Out
DESCRIPTION:Meet Kirkcaldy 10.00\, stands up 10.30 \nRide-out round the East Neuk of Fife\, then Blairgowrie\, Dunkeld\, Comrie\, Dunning\, Powmill\, Kelty & back to Kirkcaldy. The map above is indicative rather than definitive. Coffee / leg stretch stops could include the Rhynd Cafe at Kinshaldy\, Tay Bridge South Cafe\, Bridgend Cafe Dundee\, Cateran Cafe Blairgowrie and Powmill Milk Bar\, or anywhere anyone fancies. Plan for food stop would be Tullybannocher Tea Room at Comrie.
URL:https://kofgiam.org.uk/event/march-ride-out/
END:VEVENT
END:VCALENDAR