BEGIN:VCALENDAR
VERSION:2.0
PRODID:-//Kingdom Of Fife Group of Advanced Motorists - ECPv6.15.20//NONSGML v1.0//EN
CALSCALE:GREGORIAN
METHOD:PUBLISH
X-ORIGINAL-URL:https://kofgiam.org.uk
X-WR-CALDESC:Events for Kingdom Of Fife Group of Advanced Motorists
REFRESH-INTERVAL;VALUE=DURATION:PT1H
X-Robots-Tag:noindex
X-PUBLISHED-TTL:PT1H
BEGIN:VTIMEZONE
TZID:Europe/London
BEGIN:DAYLIGHT
TZOFFSETFROM:+0000
TZOFFSETTO:+0100
TZNAME:BST
DTSTART:20250330T010000
END:DAYLIGHT
BEGIN:STANDARD
TZOFFSETFROM:+0100
TZOFFSETTO:+0000
TZNAME:GMT
DTSTART:20251026T010000
END:STANDARD
BEGIN:DAYLIGHT
TZOFFSETFROM:+0000
TZOFFSETTO:+0100
TZNAME:BST
DTSTART:20260329T010000
END:DAYLIGHT
BEGIN:STANDARD
TZOFFSETFROM:+0100
TZOFFSETTO:+0000
TZNAME:GMT
DTSTART:20261025T010000
END:STANDARD
BEGIN:DAYLIGHT
TZOFFSETFROM:+0000
TZOFFSETTO:+0100
TZNAME:BST
DTSTART:20270328T010000
END:DAYLIGHT
BEGIN:STANDARD
TZOFFSETFROM:+0100
TZOFFSETTO:+0000
TZNAME:GMT
DTSTART:20271031T010000
END:STANDARD
END:VTIMEZONE
BEGIN:VEVENT
DTSTART;TZID=Europe/London:20260717T100000
DTEND;TZID=Europe/London:20260719T170000
DTSTAMP:20260423T142308
CREATED:20260321T110916Z
LAST-MODIFIED:20260321T111049Z
UID:1490-1784282400-1784480400@kofgiam.org.uk
SUMMARY:Tayvallich Camping weekend
DESCRIPTION:Motorcycle Section \nCamping weekend in the magical village of Tayvallich\, riding the fantastic roads of Argyle and the Ardnamurchan point\, returning Sunday 19th\, open to all.I look forward to seeing you all there.
URL:https://kofgiam.org.uk/event/tayvallich-camping-weekend/
LOCATION:Tayvallich
CATEGORIES:Motorcycle Ride-Out
END:VEVENT
END:VCALENDAR